BEGIN:VCALENDAR
VERSION:2.0
PRODID:-//Riverside Community Health Foundation - ECPv6.2.2.1//NONSGML v1.0//EN
CALSCALE:GREGORIAN
METHOD:PUBLISH
X-ORIGINAL-URL:https://rchf.org
X-WR-CALDESC:Events for Riverside Community Health Foundation
REFRESH-INTERVAL;VALUE=DURATION:PT1H
X-Robots-Tag:noindex
X-PUBLISHED-TTL:PT1H
BEGIN:VTIMEZONE
TZID:America/Los_Angeles
BEGIN:DAYLIGHT
TZOFFSETFROM:-0800
TZOFFSETTO:-0700
TZNAME:PDT
DTSTART:20250309T100000
END:DAYLIGHT
BEGIN:STANDARD
TZOFFSETFROM:-0700
TZOFFSETTO:-0800
TZNAME:PST
DTSTART:20251102T090000
END:STANDARD
END:VTIMEZONE
BEGIN:VEVENT
DTSTART;TZID=America/Los_Angeles:20250820T113000
DTEND;TZID=America/Los_Angeles:20250820T130000
DTSTAMP:20260422T015408
CREATED:20250311T212728Z
LAST-MODIFIED:20250806T173141Z
UID:10003033-1755689400-1755694800@rchf.org
SUMMARY:Local Partnership Collaborative
DESCRIPTION:The LPC is a vibrant collaboration of community organizations\, schools\, churches\, and youth dedicated to improving the health and development of Riverside’s young people through innovative programs and initiatives.
URL:https://rchf.org/event/local-partnership-collaborative-3/
LOCATION:Hybrid- Zoom/In Person\, 4275 Lemon St\, Riverside\, ca\, 92501
ATTACH;FMTTYPE=image/jpeg:https://rchf.org/wp-content/uploads/2025/03/coalition-1-scaled.jpg
END:VEVENT
END:VCALENDAR