BEGIN:VCALENDAR
VERSION:2.0
PRODID:-//Riverside Community Health Foundation - ECPv6.2.2.1//NONSGML v1.0//EN
CALSCALE:GREGORIAN
METHOD:PUBLISH
X-WR-CALNAME:Riverside Community Health Foundation
X-ORIGINAL-URL:https://rchf.org
X-WR-CALDESC:Events for Riverside Community Health Foundation
REFRESH-INTERVAL;VALUE=DURATION:PT1H
X-Robots-Tag:noindex
X-PUBLISHED-TTL:PT1H
BEGIN:VTIMEZONE
TZID:America/Los_Angeles
BEGIN:DAYLIGHT
TZOFFSETFROM:-0800
TZOFFSETTO:-0700
TZNAME:PDT
DTSTART:20250309T100000
END:DAYLIGHT
BEGIN:STANDARD
TZOFFSETFROM:-0700
TZOFFSETTO:-0800
TZNAME:PST
DTSTART:20251102T090000
END:STANDARD
END:VTIMEZONE
BEGIN:VEVENT
DTSTART;TZID=America/Los_Angeles:20250618T173000
DTEND;TZID=America/Los_Angeles:20250618T193000
DTSTAMP:20260419T134156
CREATED:20250424T222216Z
LAST-MODIFIED:20250425T181047Z
UID:10004451-1750267800-1750275000@rchf.org
SUMMARY:“Conversaciones Difíciles” Cómo hablar con los adolescentes Para padres y cuidadores
DESCRIPTION:Únete a estos talleres de 2 horas\, diseñados para ofrecerte información útil y consejos prácticos sobre temas importantes para ti y tus hijos adolescentes. Habrá presentaciones\, actividades\, círculos de diálogo y espacio para preguntas y respuesta. \nEducadores de salud y médicos compartirán herramientas para mejorar la comunicación con tus hijos\, fortalecer su relación y ayudarles a prepararse para el futuro. \nMayo 14\, Mayo 21\, Junio 4\, Junio 11\, y  Junio 18 \nRegístrese en https://rchf.org/toughtalks
URL:https://rchf.org/event/conversaciones-dificiles-como-hablar-con-los-adolescentes-para-padres-y-cuidadores/2025-06-18/
LOCATION:Riverside Community Health Foundation\, 4275 Lemon St\, Riverside\, CA\, 92501\, United States
CATEGORIES:Teen Health
ATTACH;FMTTYPE=image/png:https://rchf.org/wp-content/uploads/2025/04/2-16tough-talk-spanish.png
ORGANIZER;CN="Jamila A":MAILTO:jamila@rchf.org
END:VEVENT
END:VCALENDAR